BEGIN:VCALENDAR
VERSION:2.0
PRODID:-//SSML Internazionale - ECPv5.1.4//NONSGML v1.0//EN
CALSCALE:GREGORIAN
METHOD:PUBLISH
X-WR-CALNAME:SSML Internazionale
X-ORIGINAL-URL:https://www.ssmlinternazionale.it/site
X-WR-CALDESC:Eventi per SSML Internazionale
BEGIN:VTIMEZONE
TZID:Europe/Rome
BEGIN:DAYLIGHT
TZOFFSETFROM:+0100
TZOFFSETTO:+0200
TZNAME:CEST
DTSTART:20220327T010000
END:DAYLIGHT
BEGIN:STANDARD
TZOFFSETFROM:+0200
TZOFFSETTO:+0100
TZNAME:CET
DTSTART:20221030T010000
END:STANDARD
END:VTIMEZONE
BEGIN:VEVENT
DTSTART;TZID=Europe/Rome:20220619T080000
DTEND;TZID=Europe/Rome:20220625T170000
DTSTAMP:20260421T191746
CREATED:20220531T151604Z
LAST-MODIFIED:20220531T151804Z
UID:8071-1655625600-1656176400@www.ssmlinternazionale.it
SUMMARY:Viaggio Studio: BURGOS (SPAGNA)
DESCRIPTION:La Spagna è un Paese che affascina sempre per la natura mozzafiato e la sua gente simpatica e cordiale.\nBurgos\, famosa per la tradizione letteraria\, i locali di ritrovo\, i monumenti storici è l’emblema della penisola spagnola.\n\nLe vacanze studio organizzate da Ss Mediatori Linguistici sono rivolte agli studenti per far vivere un’esperienza di formazione e di crescita personale all’estero.\n\nIl viaggio Internazionale si basa sugli Obiettivi 4 e 5 dell’Agenda 2030 delle Nazioni Unite per lo Sviluppo Sostenibile: “Achieve Gender Equality and Empower Women and Girls”; “Garantire un’istruzione di qualità inclusiva ed equa e promuovere opportunità di apprendimento permanente per tutti”. \nGli studenti universitari saranno coinvolti in seminari e workshop che si terranno dal 20 al 25 Giugno presso l’Università di Burgos\, Spagna. \nPartenza il 19.06.2022 volo Napoli / Madrid \nsuccessivamente in bus Madrid / Burgos \nLezioni dal 20 al 25 mattina. Pomeriggi liberi per visite \nPer aderire scrivi a orientamento@ssmlinternazionale.it \n\n\n\n\n\n\n\n\n
URL:https://www.ssmlinternazionale.it/site/event/viaggio-studio-burgos-spagna/
CATEGORIES:Attività
ATTACH;FMTTYPE=image/jpeg:https://www.ssmlinternazionale.it/site/wp-content/uploads/burgos.jpg
ORGANIZER;CN="SSML%20Internazionale":MAILTO:segreteria@ssmlinternazionale.it
END:VEVENT
END:VCALENDAR