BEGIN:VCALENDAR
VERSION:2.0
PRODID:-//SSML Internazionale - ECPv5.1.4//NONSGML v1.0//EN
CALSCALE:GREGORIAN
METHOD:PUBLISH
X-WR-CALNAME:SSML Internazionale
X-ORIGINAL-URL:https://www.ssmlinternazionale.it/site
X-WR-CALDESC:Eventi per SSML Internazionale
BEGIN:VTIMEZONE
TZID:Europe/Rome
BEGIN:DAYLIGHT
TZOFFSETFROM:+0100
TZOFFSETTO:+0200
TZNAME:CEST
DTSTART:20180325T010000
END:DAYLIGHT
BEGIN:STANDARD
TZOFFSETFROM:+0200
TZOFFSETTO:+0100
TZNAME:CET
DTSTART:20181028T010000
END:STANDARD
END:VTIMEZONE
BEGIN:VEVENT
DTSTART;TZID=Europe/Rome:20180120T103000
DTEND;TZID=Europe/Rome:20180120T140000
DTSTAMP:20260421T133915
CREATED:20180110T170053Z
LAST-MODIFIED:20180110T172754Z
UID:101-1516444200-1516456800@www.ssmlinternazionale.it
SUMMARY:Unifortunato - Conferenza del giornalista Roberto Giacobbo
DESCRIPTION:Sabato 20 gennaio\, alle ore 10.30\, presso l’Aula Magna dell’Unifortunato di Benevento\, nella sede della Scuola Superiore per Mediatori Linguistici – Internazionale\, in Viale Raffaele Delcogliano 12\, si terrà l’incontro con Roberto Giacobbo – vicedirettore di RAI 2\, autore e conduttore di Voyager\, dal titolo “Il segreto di Traiano”. Nel corso dell’incontro sarà presentato in esclusiva il documentario “Traianus” di Livio Zerbini – Università di Ferrara.\nModera il convegno il giornalista Alfredo Salzano.\nLa cittadinanza è inviata a partecipare. Ingresso libero. \n  \n \n
URL:https://www.ssmlinternazionale.it/site/event/unifortunato-conferenza-roberto-giacobbo/
LOCATION:SSML Internazionale\, Viale Raffaele Delcogliano 12\, Benevento\, 82100\, Italia
CATEGORIES:Attività
ORGANIZER;CN="Universit%C3%A0%20Telematica%20Giustino%20Fortunato":MAILTO:segreteria@unifortunato.eu
END:VEVENT
END:VCALENDAR