BEGIN:VCALENDAR
VERSION:2.0
PRODID:-//SSML Internazionale - ECPv5.1.4//NONSGML v1.0//EN
CALSCALE:GREGORIAN
METHOD:PUBLISH
X-WR-CALNAME:SSML Internazionale
X-ORIGINAL-URL:https://www.ssmlinternazionale.it/site
X-WR-CALDESC:Eventi per SSML Internazionale
BEGIN:VTIMEZONE
TZID:Europe/Rome
BEGIN:DAYLIGHT
TZOFFSETFROM:+0100
TZOFFSETTO:+0200
TZNAME:CEST
DTSTART:20170326T010000
END:DAYLIGHT
BEGIN:STANDARD
TZOFFSETFROM:+0200
TZOFFSETTO:+0100
TZNAME:CET
DTSTART:20171029T010000
END:STANDARD
END:VTIMEZONE
BEGIN:VEVENT
DTSTART;TZID=Europe/Rome:20171010T100000
DTEND;TZID=Europe/Rome:20171010T140000
DTSTAMP:20260421T172138
CREATED:20171005T164639Z
LAST-MODIFIED:20171005T164639Z
UID:99-1507629600-1507644000@www.ssmlinternazionale.it
SUMMARY:SSML Internazionale - Test d'ammissione
DESCRIPTION:
URL:https://www.ssmlinternazionale.it/site/event/ssml-internazionale-test-dammissione/
LOCATION:SSML Internazionale\, Viale Raffaele Delcogliano 12\, Benevento\, 82100\, Italia
CATEGORIES:Attività
END:VEVENT
END:VCALENDAR