BEGIN:VCALENDAR
VERSION:2.0
PRODID:-//SSML Internazionale - ECPv5.1.4//NONSGML v1.0//EN
CALSCALE:GREGORIAN
METHOD:PUBLISH
X-WR-CALNAME:SSML Internazionale
X-ORIGINAL-URL:https://www.ssmlinternazionale.it/site
X-WR-CALDESC:Eventi per SSML Internazionale
BEGIN:VTIMEZONE
TZID:Europe/Rome
BEGIN:DAYLIGHT
TZOFFSETFROM:+0100
TZOFFSETTO:+0200
TZNAME:CEST
DTSTART:20170326T010000
END:DAYLIGHT
BEGIN:STANDARD
TZOFFSETFROM:+0200
TZOFFSETTO:+0100
TZNAME:CET
DTSTART:20171029T010000
END:STANDARD
END:VTIMEZONE
BEGIN:VEVENT
DTSTART;TZID=Europe/Rome:20170921T090000
DTEND;TZID=Europe/Rome:20170922T190000
DTSTAMP:20260421T172106
CREATED:20170915T161952Z
LAST-MODIFIED:20171005T164658Z
UID:89-1505984400-1506106800@www.ssmlinternazionale.it
SUMMARY:SSML Internazionale - Open Day
DESCRIPTION:Con Decreto MIUR n.1933 del 01 agosto 2017 (G.U. n. 198 del 25.08.2017) è stata autorizzata l’istituzione della Scuola Superiore per Mediatori Linguistici “Istituto Internazionale” di Benevento. \nLa SSML è fondata dall’IPSEF – Istituto per la Promozione e Sviluppo dell’Educazione e Formazione S.r.l. -\, Ente con una esperienza più che ventennale nell’ambito della formazione universitaria\, e da dieci anni convenzionato con l’Università Telematica Giustino Fortunato per la promozione di Master Universitari e Corsi di Alta Formazione accademica. \nPer conoscere più da vicino l’offerta formativa\, visitare il Campus\, e ricevere maggiori informazioni Vi invitiamo a partecipare all’Open day dedicato che avrà luogo nei giorni 21 e 22 settembre presso la sede in Benevento\, al Viale Delcogliano n. 12. \n
URL:https://www.ssmlinternazionale.it/site/event/ssml-internazionale-open-day/
LOCATION:SSML Internazionale\, Viale Raffaele Delcogliano 12\, Benevento\, 82100\, Italia
CATEGORIES:Attività
ATTACH;FMTTYPE=image/jpeg:https://www.ssmlinternazionale.it/site/wp-content/uploads/Banner-Open-Days-2.jpg
END:VEVENT
END:VCALENDAR