BEGIN:VCALENDAR
VERSION:2.0
PRODID:-//SSML Internazionale - ECPv5.1.4//NONSGML v1.0//EN
CALSCALE:GREGORIAN
METHOD:PUBLISH
X-WR-CALNAME:SSML Internazionale
X-ORIGINAL-URL:https://www.ssmlinternazionale.it/site
X-WR-CALDESC:Eventi per SSML Internazionale
BEGIN:VTIMEZONE
TZID:Europe/Rome
BEGIN:DAYLIGHT
TZOFFSETFROM:+0100
TZOFFSETTO:+0200
TZNAME:CEST
DTSTART:20220327T010000
END:DAYLIGHT
BEGIN:STANDARD
TZOFFSETFROM:+0200
TZOFFSETTO:+0100
TZNAME:CET
DTSTART:20221030T010000
END:STANDARD
END:VTIMEZONE
BEGIN:VEVENT
DTSTART;TZID=Europe/Rome:20221205T153000
DTEND;TZID=Europe/Rome:20221205T180000
DTSTAMP:20260421T210823
CREATED:20221206T141143Z
LAST-MODIFIED:20221206T163323Z
UID:8539-1670254200-1670263200@www.ssmlinternazionale.it
SUMMARY:Shoah: memoria\, didattica e diritti
DESCRIPTION:Incontro del Laboratorio interdisciplinare sulla Shoah dell’anno accademico 2022/23 \nLa memoria della Shoah: didattica\, riflessione\,  impegno.  \nProf.ssa Lucia Valenzi\, Presidente Fondazione Valenzi \nProf. Gianluca Attademo\, Aggregato di Filosofia morale nell’Università Federico II di Napoli \nLo scopo del laboratorio sulla Shoah\, ha sottolineato il coordinatore del corso\, Prof. Paolo Palumbo: “è permettere allo studente di avere gli strumenti interpretativi e le capacità critiche per una conoscenza approfondita della storia del genocidio ebraico\, delle persecuzioni razziali e delle politiche pubbliche della memoria e quest’anno saremo accompagnati nella riflessione da illustri ospiti e relatori che sono quotidianamente sono impegnati per custodire e tramandare la memoria della Shoah”. \nL’incontro rivolto agli studenti della Scuola Superiore per Mediatori Linguistici si svolgerà online nella piattaforma didattica alle ore 15.30 \nPer partecipare inviare mail di adesione a orientamento@ssmlinternazionale.it \n  \nProgramma \n
URL:https://www.ssmlinternazionale.it/site/event/shoah-memoria-didattica-e-diritti/
CATEGORIES:Attività,Orientamento
ATTACH;FMTTYPE=image/jpeg:https://www.ssmlinternazionale.it/site/wp-content/uploads/ricerca-shoah-2.jpg
ORGANIZER;CN="SSML%20Internazionale":MAILTO:segreteria@ssmlinternazionale.it
END:VEVENT
END:VCALENDAR