BEGIN:VCALENDAR
VERSION:2.0
PRODID:-//SSML Internazionale - ECPv5.1.4//NONSGML v1.0//EN
CALSCALE:GREGORIAN
METHOD:PUBLISH
X-WR-CALNAME:SSML Internazionale
X-ORIGINAL-URL:https://www.ssmlinternazionale.it/site
X-WR-CALDESC:Eventi per SSML Internazionale
BEGIN:VTIMEZONE
TZID:Europe/Rome
BEGIN:DAYLIGHT
TZOFFSETFROM:+0100
TZOFFSETTO:+0200
TZNAME:CEST
DTSTART:20220327T010000
END:DAYLIGHT
BEGIN:STANDARD
TZOFFSETFROM:+0200
TZOFFSETTO:+0100
TZNAME:CET
DTSTART:20221030T010000
END:STANDARD
END:VTIMEZONE
BEGIN:VEVENT
DTSTART;TZID=Europe/Rome:20221207T093000
DTEND;TZID=Europe/Rome:20221207T173000
DTSTAMP:20260421T171939
CREATED:20221206T141629Z
LAST-MODIFIED:20221206T163355Z
UID:8545-1670405400-1670434200@www.ssmlinternazionale.it
SUMMARY:PARLJAMO TEDESCO
DESCRIPTION:Nell’ambito dell’Anno della Lingua Tedesca in Italia\, proclamato per il 2022 dal Ministero tedesco degli Affari Esteri\, l’Istituto Universitario per Mediatori Linguistici “SSML Internazionale” di Benevento promuove il progetto: “Deutsch fuer alle!!”. \nObiettivo dell’iniziativa è quello di potenziare la consapevolezza dell’importanza dello studio della lingua tedesca e di porre l’accento sulle grandi opportunità di lavoro che la conoscenza di questa lingua offre. \nLa Germania\, infatti è tra i primi partner commerciale della Regione Campania\, sia nel settore import/export che nel settore turistico. \n  \nProgramma \n
URL:https://www.ssmlinternazionale.it/site/event/parljamo-tedesco/
LOCATION:SSML Internazionale\, Viale Raffaele Delcogliano 12\, Benevento\, 82100\, Italia
CATEGORIES:Attività
ATTACH;FMTTYPE=image/png:https://www.ssmlinternazionale.it/site/wp-content/uploads/parliamo-tedesco.png
ORGANIZER;CN="SSML%20Internazionale":MAILTO:segreteria@ssmlinternazionale.it
END:VEVENT
END:VCALENDAR