BEGIN:VCALENDAR
VERSION:2.0
PRODID:-//SSML Internazionale - ECPv5.1.4//NONSGML v1.0//EN
CALSCALE:GREGORIAN
METHOD:PUBLISH
X-WR-CALNAME:SSML Internazionale
X-ORIGINAL-URL:https://www.ssmlinternazionale.it/site
X-WR-CALDESC:Eventi per SSML Internazionale
BEGIN:VTIMEZONE
TZID:Europe/Rome
BEGIN:DAYLIGHT
TZOFFSETFROM:+0100
TZOFFSETTO:+0200
TZNAME:CEST
DTSTART:20180325T010000
END:DAYLIGHT
BEGIN:STANDARD
TZOFFSETFROM:+0200
TZOFFSETTO:+0100
TZNAME:CET
DTSTART:20181028T010000
END:STANDARD
END:VTIMEZONE
BEGIN:VEVENT
DTSTART;TZID=Europe/Rome:20180312T090000
DTEND;TZID=Europe/Rome:20180313T140000
DTSTAMP:20260421T132455
CREATED:20180115T103209Z
LAST-MODIFIED:20180127T111759Z
UID:1380-1520845200-1520949600@www.ssmlinternazionale.it
SUMMARY:Open Days di SSML Internazionale: 12-13 Marzo 2018
DESCRIPTION:[vc_row][vc_column][vc_column_text] \nLunedì 12 e martedì 13 marzo 2018 a partire dalle ore 09\,00\, presso il Campus della SSML Internazionale si terranno gli Open Days dedicati alla presentazione del Corso Triennale in “Scienze della Mediazione Linguistica” (Classe L12). \n\nGli appuntamenti vedranno proporre dei Workshop tematici attinenti ai diversi indirizzi di studio: Economico-Giuridico e Turistico e Seminari relativi all’importanza ed alle prospettive della Mediazione Linguistica – Interpretariato e Traduzione.\n \nPer prenotarsi e partecipare:\n\n[/vc_column_text][vc_message message_box_color=”grey”] \n\nResponsabile delle attività di orientamento\nProf. Paolo Palumbo\np.palumbo@ssmlinternazionale.it \nUfficio Orientamento \nDott.ssa Giulia Gaudiello\nDott.ssa Concetta Durante\nsegreteria@ssmlinternazionale.itTel. 0824 312463\nFax. 0824 312342 \n\n[/vc_message][/vc_column][/vc_row] \n
URL:https://www.ssmlinternazionale.it/site/event/open-days-ssml-internazionale-12-e-13-marzo-2018/
LOCATION:SSML Internazionale\, Viale Raffaele Delcogliano 12\, Benevento\, 82100\, Italia
CATEGORIES:Attività
ATTACH;FMTTYPE=image/jpeg:https://www.ssmlinternazionale.it/site/wp-content/uploads/Banner-Open-Days.jpg
ORGANIZER;CN="SSML%20Internazionale":MAILTO:segreteria@ssmlinternazionale.it
END:VEVENT
END:VCALENDAR