BEGIN:VCALENDAR
VERSION:2.0
PRODID:-//SSML Internazionale - ECPv5.1.4//NONSGML v1.0//EN
CALSCALE:GREGORIAN
METHOD:PUBLISH
X-WR-CALNAME:SSML Internazionale
X-ORIGINAL-URL:https://www.ssmlinternazionale.it/site
X-WR-CALDESC:Eventi per SSML Internazionale
BEGIN:VTIMEZONE
TZID:Europe/Rome
BEGIN:DAYLIGHT
TZOFFSETFROM:+0100
TZOFFSETTO:+0200
TZNAME:CEST
DTSTART:20220327T010000
END:DAYLIGHT
BEGIN:STANDARD
TZOFFSETFROM:+0200
TZOFFSETTO:+0100
TZNAME:CET
DTSTART:20221030T010000
END:STANDARD
END:VTIMEZONE
BEGIN:VEVENT
DTSTART;VALUE=DATE:20221012
DTEND;VALUE=DATE:20221013
DTSTAMP:20260421T212121
CREATED:20221004T100459Z
LAST-MODIFIED:20221004T100459Z
UID:8279-1665532800-1665619199@www.ssmlinternazionale.it
SUMMARY:LABORATORIO INTERDISCIPLINARE SULLA SHOAH 22/23
DESCRIPTION:Incontro del Laboratorio interdisciplinare sulla Shoah dell’anno accademico 2022/23 \nLa mente ostile. Memoria della Shoah e antisemitismo\n\n\nProf.ssa Milena Santerini\nCoordinatrice Nazionale per la lotta contro l’antisemitismo Vice Presidente della Fondazione Memoriale della Shoah di Milano\n\n\nLo scopo del laboratorio sulla Shoah\, ha sottolineato il coordinatore del corso\, Prof. Paolo Palumbo: “è permettere allo studente di avere gli strumenti interpretativi e le capacità critiche per una conoscenza approfondita della storia del genocidio ebraico\, delle persecuzioni razziali e delle politiche pubbliche della memoria e quest’anno saremo accompagnati nella riflessione da illustri ospiti e relatori che sono quotidianamente sono impegnati per custodire e tramandare la memoria della Shoah”.\n\n\n\n\n\nL’incontro rivolto agli studenti della Scuola Superiore per Mediatori Linguistici si svolgerà online nella piattaforma didattica alle ore 15.30\n\n\n\n\n\n\n\n\n\nPer partecipare inviare mail di adesione a orientamento@ssmlinternazionale.it\n\n\nProgramma \n\n\n\n\n\n\n\n\n\n
URL:https://www.ssmlinternazionale.it/site/event/laboratorio-interdisciplinare-sulla-shoah-22-23/
LOCATION:SSML Internazionale\, Viale Raffaele Delcogliano 12\, Benevento\, 82100\, Italia
CATEGORIES:Attività
ATTACH;FMTTYPE=image/jpeg:https://www.ssmlinternazionale.it/site/wp-content/uploads/ricerca-shoah.jpg
ORGANIZER;CN="SSML%20Internazionale":MAILTO:segreteria@ssmlinternazionale.it
END:VEVENT
END:VCALENDAR