BEGIN:VCALENDAR
VERSION:2.0
PRODID:-//SSML Internazionale - ECPv5.1.4//NONSGML v1.0//EN
CALSCALE:GREGORIAN
METHOD:PUBLISH
X-WR-CALNAME:SSML Internazionale
X-ORIGINAL-URL:https://www.ssmlinternazionale.it/site
X-WR-CALDESC:Eventi per SSML Internazionale
BEGIN:VTIMEZONE
TZID:Europe/Rome
BEGIN:DAYLIGHT
TZOFFSETFROM:+0100
TZOFFSETTO:+0200
TZNAME:CEST
DTSTART:20220327T010000
END:DAYLIGHT
BEGIN:STANDARD
TZOFFSETFROM:+0200
TZOFFSETTO:+0100
TZNAME:CET
DTSTART:20221030T010000
END:STANDARD
END:VTIMEZONE
BEGIN:VEVENT
DTSTART;VALUE=DATE:20220421
DTEND;VALUE=DATE:20220422
DTSTAMP:20260422T010022
CREATED:20220325T104308Z
LAST-MODIFIED:20220325T104308Z
UID:7772-1650499200-1650585599@www.ssmlinternazionale.it
SUMMARY:Job Corner #6: Recruiting day e webinar
DESCRIPTION:Al tuo fianco per accompagnarti ad entrare nel mondo del lavoro \nLaboratorio di incontri mensili online di formazione per facilitare l’incontro di domanda e offerta di lavoro con alcune delle più importanti agenzie italiane e internazionali di selezione del personale e intermediazione al lavoro. \nOgni incontro è strutturato in due parti: ore 10:30-11:30 seminario di orientamento al lavoro\, ore 11:30-13:30 colloqui di lavoro e CV ceck. \nManpower \nIncontro sul tema: “Social recruiting e personal branding. Come utilizzare il web e i social media per la ricerca del lavoro”\nOre 11.30: Colloqui di lavoro e CV ceck \nPer partecipare agli incontri inviare una mail ad orientamento@ssmlinternazionale.it. \n  \n
URL:https://www.ssmlinternazionale.it/site/event/job-corner-6-recruiting-day-e-webinar/
CATEGORIES:Attività
ATTACH;FMTTYPE=image/png:https://www.ssmlinternazionale.it/site/wp-content/uploads/Schermata-2021-11-25-alle-14.30.15.png
END:VEVENT
END:VCALENDAR