BEGIN:VCALENDAR
VERSION:2.0
PRODID:-//SSML Internazionale - ECPv5.1.4//NONSGML v1.0//EN
CALSCALE:GREGORIAN
METHOD:PUBLISH
X-WR-CALNAME:SSML Internazionale
X-ORIGINAL-URL:https://www.ssmlinternazionale.it/site
X-WR-CALDESC:Eventi per SSML Internazionale
BEGIN:VTIMEZONE
TZID:Europe/Rome
BEGIN:DAYLIGHT
TZOFFSETFROM:+0100
TZOFFSETTO:+0200
TZNAME:CEST
DTSTART:20220327T010000
END:DAYLIGHT
BEGIN:STANDARD
TZOFFSETFROM:+0200
TZOFFSETTO:+0100
TZNAME:CET
DTSTART:20221030T010000
END:STANDARD
END:VTIMEZONE
BEGIN:VEVENT
DTSTART;VALUE=DATE:20221020
DTEND;VALUE=DATE:20221021
DTSTAMP:20260421T192512
CREATED:20220929T075321Z
LAST-MODIFIED:20221107T114051Z
UID:8283-1666224000-1666310399@www.ssmlinternazionale.it
SUMMARY:Job Corner 2022
DESCRIPTION:Primo appuntamento del Job Corner del nuovo anno accademico 2022/23 \nIl percorso mira alla acquisizione di ulteriori competenze trasversali utili per il mondo del lavoro. In particolare mira a : \n\nfornire agli studenti una conoscenza di base del mondo del lavoro\, del suo funzionamento e delle sue regole;\naiutare gli studenti a fare una scelta universitaria e lavorativa ponderata e consapevole;\ninformare gli studenti su possibili sbocchi lavorativi e professionali all’esito di un percorso di studi universitario;\nvalorizzare le attitudini personali degli studenti in vista di una scelta consapevole post lauream.\n\n\nRecruiting day e Webinar sul tema: “Lo sviluppo del talento: My Path” con Manpower\nore 10.30\nProgramma Completo \n
URL:https://www.ssmlinternazionale.it/site/event/job-corner-2022/
LOCATION:SSML Internazionale\, Viale Raffaele Delcogliano 12\, Benevento\, 82100\, Italia
CATEGORIES:Attività,Orientamento
ATTACH;FMTTYPE=image/jpeg:https://www.ssmlinternazionale.it/site/wp-content/uploads/JOB-CORNER-SSML.jpg
ORGANIZER;CN="SSML%20Internazionale":MAILTO:segreteria@ssmlinternazionale.it
END:VEVENT
END:VCALENDAR