BEGIN:VCALENDAR
VERSION:2.0
PRODID:-//SSML Internazionale - ECPv5.1.4//NONSGML v1.0//EN
CALSCALE:GREGORIAN
METHOD:PUBLISH
X-WR-CALNAME:SSML Internazionale
X-ORIGINAL-URL:https://www.ssmlinternazionale.it/site
X-WR-CALDESC:Eventi per SSML Internazionale
BEGIN:VTIMEZONE
TZID:Europe/Rome
BEGIN:DAYLIGHT
TZOFFSETFROM:+0100
TZOFFSETTO:+0200
TZNAME:CEST
DTSTART:20220327T010000
END:DAYLIGHT
BEGIN:STANDARD
TZOFFSETFROM:+0200
TZOFFSETTO:+0100
TZNAME:CET
DTSTART:20221030T010000
END:STANDARD
END:VTIMEZONE
BEGIN:VEVENT
DTSTART;TZID=Europe/Rome:20221215T103000
DTEND;TZID=Europe/Rome:20221215T130000
DTSTAMP:20260421T191029
CREATED:20221206T143400Z
LAST-MODIFIED:20221206T163522Z
UID:8549-1671100200-1671109200@www.ssmlinternazionale.it
SUMMARY:JOB CORNER 2022/23
DESCRIPTION:Terzo appuntamento del Job Corner dell’anno accademico 2022/23 \nIl percorso mira alla acquisizione di ulteriori competenze trasversali utili per il mondo del lavoro. In particolare mira a : \n\nfornire agli studenti una conoscenza di base del mondo del lavoro\, del suo funzionamento e delle sue regole;\naiutare gli studenti a fare una scelta universitaria e lavorativa ponderata e consapevole;\ninformare gli studenti su possibili sbocchi lavorativi e professionali all’esito di un percorso di studi universitario;\nvalorizzare le attitudini personali degli studenti in vista di una scelta consapevole post lauream.\n\nRecruiting day e Webinar sul tema: “Educare alla rete: web reputation e personal branding” con Umana  \nore 10.30 \n  \nProgramma \n
URL:https://www.ssmlinternazionale.it/site/event/job-corner-2022-23/
LOCATION:SSML Internazionale\, Viale Raffaele Delcogliano 12\, Benevento\, 82100\, Italia
CATEGORIES:Attività,Orientamento
ATTACH;FMTTYPE=image/jpeg:https://www.ssmlinternazionale.it/site/wp-content/uploads/JOB-CORNER-SSML.jpg
ORGANIZER;CN="SSML%20Internazionale":MAILTO:segreteria@ssmlinternazionale.it
END:VEVENT
END:VCALENDAR