BEGIN:VCALENDAR
VERSION:2.0
PRODID:-//SSML Internazionale - ECPv5.1.4//NONSGML v1.0//EN
CALSCALE:GREGORIAN
METHOD:PUBLISH
X-WR-CALNAME:SSML Internazionale
X-ORIGINAL-URL:https://www.ssmlinternazionale.it/site
X-WR-CALDESC:Eventi per SSML Internazionale
BEGIN:VTIMEZONE
TZID:Europe/Rome
BEGIN:DAYLIGHT
TZOFFSETFROM:+0100
TZOFFSETTO:+0200
TZNAME:CEST
DTSTART:20220327T010000
END:DAYLIGHT
BEGIN:STANDARD
TZOFFSETFROM:+0200
TZOFFSETTO:+0100
TZNAME:CET
DTSTART:20221030T010000
END:STANDARD
END:VTIMEZONE
BEGIN:VEVENT
DTSTART;VALUE=DATE:20220511
DTEND;VALUE=DATE:20220512
DTSTAMP:20260421T230557
CREATED:20220422T075159Z
LAST-MODIFIED:20220422T075159Z
UID:7905-1652227200-1652313599@www.ssmlinternazionale.it
SUMMARY:Guida allo Studio
DESCRIPTION:Guida allo studio – Dott.ssa Valentina Santopietro\, psicologa \n\nL’ansia da esami\n\n\n\n\nL’appuntamento dedicato agli studenti Ssml\, si svolgerà da remoto alle ore 14.00\n\n\n\nPer partecipare inviare una mail a p.palumbo@ssmlinternazionale.it\n\n\n
URL:https://www.ssmlinternazionale.it/site/event/guida-allo-studio/
CATEGORIES:Orientamento
ATTACH;FMTTYPE=image/jpeg:https://www.ssmlinternazionale.it/site/wp-content/uploads/guida-studio.jpg
ORGANIZER;CN="SSML%20Internazionale":MAILTO:segreteria@ssmlinternazionale.it
END:VEVENT
END:VCALENDAR