BEGIN:VCALENDAR
VERSION:2.0
PRODID:-//SSML Internazionale - ECPv5.1.4//NONSGML v1.0//EN
CALSCALE:GREGORIAN
METHOD:PUBLISH
X-WR-CALNAME:SSML Internazionale
X-ORIGINAL-URL:https://www.ssmlinternazionale.it/site
X-WR-CALDESC:Eventi per SSML Internazionale
BEGIN:VTIMEZONE
TZID:Europe/Rome
BEGIN:DAYLIGHT
TZOFFSETFROM:+0100
TZOFFSETTO:+0200
TZNAME:CEST
DTSTART:20220327T010000
END:DAYLIGHT
BEGIN:STANDARD
TZOFFSETFROM:+0200
TZOFFSETTO:+0100
TZNAME:CET
DTSTART:20221030T010000
END:STANDARD
END:VTIMEZONE
BEGIN:VEVENT
DTSTART;VALUE=DATE:20220420
DTEND;VALUE=DATE:20220421
DTSTAMP:20260421T232030
CREATED:20220325T103345Z
LAST-MODIFIED:20220401T110215Z
UID:7765-1650412800-1650499199@www.ssmlinternazionale.it
SUMMARY:"Future skills” seminari online di orientamento in itinere e counseling
DESCRIPTION:Settimo appuntamento dell’anno accademico 2021/22 del ciclo di seminari \n\n\nAutomotivazione \n\nProf.ssa Marilisa Quarantiello\, professore Psicologia dei gruppi virtuali\n\n\n\nL’appuntamento dedicato agli studenti SSML Internazionale\, si svolgerà alle ore 15.30\n\n\nPer partecipare inviare una mail a p.palumbo@ssmlinternazionale.it\n\n
URL:https://www.ssmlinternazionale.it/site/event/future-skills-seminari-online-di-orientamento-in-itinere-e-counseling/
CATEGORIES:Attività,Orientamento
ATTACH;FMTTYPE=image/jpeg:https://www.ssmlinternazionale.it/site/wp-content/uploads/group-of-people-working-out-business-plan-in-an-office.jpg
END:VEVENT
END:VCALENDAR