BEGIN:VCALENDAR
VERSION:2.0
PRODID:-//SSML Internazionale - ECPv5.1.4//NONSGML v1.0//EN
CALSCALE:GREGORIAN
METHOD:PUBLISH
X-WR-CALNAME:SSML Internazionale
X-ORIGINAL-URL:https://www.ssmlinternazionale.it/site
X-WR-CALDESC:Eventi per SSML Internazionale
BEGIN:VTIMEZONE
TZID:Europe/Rome
BEGIN:DAYLIGHT
TZOFFSETFROM:+0100
TZOFFSETTO:+0200
TZNAME:CEST
DTSTART:20220327T010000
END:DAYLIGHT
BEGIN:STANDARD
TZOFFSETFROM:+0200
TZOFFSETTO:+0100
TZNAME:CET
DTSTART:20221030T010000
END:STANDARD
END:VTIMEZONE
BEGIN:VEVENT
DTSTART;TZID=Europe/Rome:20220609T080000
DTEND;TZID=Europe/Rome:20220609T170000
DTSTAMP:20260421T212626
CREATED:20220531T134344Z
LAST-MODIFIED:20220531T134345Z
UID:8069-1654761600-1654794000@www.ssmlinternazionale.it
SUMMARY:"Future skills” seminari online di orientamento in itinere e counseling
DESCRIPTION:Future Skill\nCiclo di seminari online di orientamento in itinere e counseling / a.a. 2021/2022 \n09 giugno 2022 > ore 15.30 \nDott. Corrado Ferrara – Confindustria Benevento\nL’etica nel mondo del lavoro: la CSR \nPer partecipare agli incontri inviare una mail ad orientamento@ssmlinternazionale.it\nL’incontro si terrà in modalità online. \nGli iscritti riceveranno le credenziali per l’accesso all’aula virtuale. \n
URL:https://www.ssmlinternazionale.it/site/event/future-skills-seminari-online-di-orientamento-in-itinere-e-counseling-3/
LOCATION:SSML Internazionale\, Viale Raffaele Delcogliano 12\, Benevento\, 82100\, Italia
CATEGORIES:Attività
ATTACH;FMTTYPE=image/jpeg:https://www.ssmlinternazionale.it/site/wp-content/uploads/group-of-people-working-out-business-plan-in-an-office.jpg
ORGANIZER;CN="SSML%20Internazionale":MAILTO:segreteria@ssmlinternazionale.it
END:VEVENT
END:VCALENDAR