BEGIN:VCALENDAR
VERSION:2.0
PRODID:-//SSML Internazionale - ECPv5.1.4//NONSGML v1.0//EN
CALSCALE:GREGORIAN
METHOD:PUBLISH
X-WR-CALNAME:SSML Internazionale
X-ORIGINAL-URL:https://www.ssmlinternazionale.it/site
X-WR-CALDESC:Eventi per SSML Internazionale
BEGIN:VTIMEZONE
TZID:Europe/Rome
BEGIN:DAYLIGHT
TZOFFSETFROM:+0100
TZOFFSETTO:+0200
TZNAME:CEST
DTSTART:20220327T010000
END:DAYLIGHT
BEGIN:STANDARD
TZOFFSETFROM:+0200
TZOFFSETTO:+0100
TZNAME:CET
DTSTART:20221030T010000
END:STANDARD
END:VTIMEZONE
BEGIN:VEVENT
DTSTART;VALUE=DATE:20220324
DTEND;VALUE=DATE:20220325
DTSTAMP:20260421T230507
CREATED:20220321T164745Z
LAST-MODIFIED:20220325T103430Z
UID:7750-1648080000-1648166399@www.ssmlinternazionale.it
SUMMARY:"Future skills” seminari online di orientamento in itinere e counseling
DESCRIPTION:Future Skill\nCiclo di seminari online di orientamento in itinere e counseling / a.a. 2021/2022 \n24 Marzo 2022 > ore 15.30\nProf.ssa Sara Bottiroli – Docente di Psicologia generale presso l’Unifortunato\nMetacognizione per la memoria e per l’apprendimento \nPer partecipare agli incontri inviare una mail ad orientamento@ssmlinternazionale.it\nL’incontro si terrà in modalità online. \nGli iscritti riceveranno le credenziali per l’accesso all’aula virtuale ZOOM. \n
URL:https://www.ssmlinternazionale.it/site/event/future-skill/
LOCATION:SSML Internazionale\, Viale Raffaele Delcogliano 12\, Benevento\, 82100\, Italia
CATEGORIES:Attività
ATTACH;FMTTYPE=image/jpeg:https://www.ssmlinternazionale.it/site/wp-content/uploads/group-of-people-working-out-business-plan-in-an-office.jpg
END:VEVENT
END:VCALENDAR