BEGIN:VCALENDAR
VERSION:2.0
PRODID:-//SSML Internazionale - ECPv5.1.4//NONSGML v1.0//EN
CALSCALE:GREGORIAN
METHOD:PUBLISH
X-WR-CALNAME:SSML Internazionale
X-ORIGINAL-URL:https://www.ssmlinternazionale.it/site
X-WR-CALDESC:Eventi per SSML Internazionale
BEGIN:VTIMEZONE
TZID:Europe/Rome
BEGIN:DAYLIGHT
TZOFFSETFROM:+0100
TZOFFSETTO:+0200
TZNAME:CEST
DTSTART:20220327T010000
END:DAYLIGHT
BEGIN:STANDARD
TZOFFSETFROM:+0200
TZOFFSETTO:+0100
TZNAME:CET
DTSTART:20221030T010000
END:STANDARD
END:VTIMEZONE
BEGIN:VEVENT
DTSTART;TZID=Europe/Rome:20221213T153000
DTEND;TZID=Europe/Rome:20221213T173000
DTSTAMP:20260421T190814
CREATED:20221206T142753Z
LAST-MODIFIED:20221206T163501Z
UID:8547-1670945400-1670952600@www.ssmlinternazionale.it
SUMMARY:Future Skill 2022/23
DESCRIPTION:Terzo appuntamento dell’anno accademico 2022/23 del ciclo di seminari \n  \nLa capacità di progettazione \nProf.ssa Antonella Lopez\, docente di Teoria dei Test psicologici e Psicometria \nore 15:30 \n  \nIl percorso mira alla acquisizione di ulteriori competenze trasversali utili per il mondo del lavoro.\nLe competenze trasversali integrano il percorso di studi e consentono allo studente di arricchire il proprio curriculum di quelle conoscenze e competenze sempre più richieste nella ricerca di lavoro\nda parte degli esperti di selezione di risorse umane. L’acquisizione di tali competenze mira a fornire all’individuo la possibilità di acquisire capacità fondamentali\, oltre che nel lavoro anche nella vita\nquotidiana. Il quadro europeo di riferimento delinea otto tipi di competenze chiave: alfabetico-funzionali\, linguistiche\, matematiche\, scientifiche\, tecnologiche e ingegneristiche\, digitali\, personali\, sociali e di apprendimento\, civiche; imprenditoriali\, in materia di consapevolezza ed espressione culturale. \nL’incontro rivolto agli studenti della Scuola Superiore per Mediatori Linguistici \nPer partecipare inviare mail di adesione a orientamento@ssmlinternazionale.it \nProgramma \n
URL:https://www.ssmlinternazionale.it/site/event/future-skill-2022-23/
LOCATION:SSML Internazionale\, Viale Raffaele Delcogliano 12\, Benevento\, 82100\, Italia
CATEGORIES:Attività,Orientamento
ATTACH;FMTTYPE=image/jpeg:https://www.ssmlinternazionale.it/site/wp-content/uploads/FUTURE-SKILL-SSML.jpg
ORGANIZER;CN="SSML%20Internazionale":MAILTO:segreteria@ssmlinternazionale.it
END:VEVENT
END:VCALENDAR