BEGIN:VCALENDAR
VERSION:2.0
PRODID:-//SSML Internazionale - ECPv5.1.4//NONSGML v1.0//EN
CALSCALE:GREGORIAN
METHOD:PUBLISH
X-WR-CALNAME:SSML Internazionale
X-ORIGINAL-URL:https://www.ssmlinternazionale.it/site
X-WR-CALDESC:Eventi per SSML Internazionale
BEGIN:VTIMEZONE
TZID:Europe/Rome
BEGIN:DAYLIGHT
TZOFFSETFROM:+0100
TZOFFSETTO:+0200
TZNAME:CEST
DTSTART:20220327T010000
END:DAYLIGHT
BEGIN:STANDARD
TZOFFSETFROM:+0200
TZOFFSETTO:+0100
TZNAME:CET
DTSTART:20221030T010000
END:STANDARD
END:VTIMEZONE
BEGIN:VEVENT
DTSTART;VALUE=DATE:20220426
DTEND;VALUE=DATE:20220505
DTSTAMP:20260421T230932
CREATED:20220426T094636Z
LAST-MODIFIED:20220426T095032Z
UID:7915-1650931200-1651708799@www.ssmlinternazionale.it
SUMMARY:Diritto e persona. Il diritto canonico dell'ecclesiologia conciliare
DESCRIPTION:Incontro in presenza  – ORE 17.00\nPaolo Palumbo\nDiritto e persona. Il diritto canonico dell’ecclesiologia conciliare\n\nPresentazione del libro Diritto e persona. Il diritto canonico dell’ecclesiologia conciliare del Prof. Paolo Palumbo\, docente Ss Mediazione Linguistica\nNel volume\, dedicato ai Libri I-II-III del Codice di diritto canonico e aggiornato alle più recenti riforme di Papa Francesco\, il Prof. Paolo Palumbo approfondisce nella prima parte il perché del diritto canonico (cap. I) e la sua presenza nella realtà della Chiesa anche con utili riferimenti alle connessioni con altri diritti confessionali (cap. II) e la ricostruzione dei relativi profili storici (cap. III). Nelle successive parti\, si analizzano in modo chiaro e sistematico i canoni che disciplinano le norme generali (cap. IV)\, il Popolo di Dio (cap. V)\, la gerarchia ecclesiastica (cap. VI) e la funzione di insegnare della Chiesa (cap. VII). \nL’Autore traccia un percorso completo di analisi dei canoni nella prospettiva dell’ecclesiologia conciliare al fine di fornire un valido strumento di studio non solo per gli “addetti ai lavori” (autorità ecclesiastiche\, operatori dei tribunali ecclesiastici\, avvocati canonisti\, ecc.)\, ma anche per gli insegnanti di religione cattolica e per gli operatori pastorali nei loro molteplici ambiti di riferimento. La metodologia adottata\, infatti\, rende i relativi contenuti accessibili anche a chi per la prima volta entra in contatto con lo studio di una disciplina giuridica. \nIl Volume\, nei suoi contenuti più strettamente tecnici (fonti\, atti amministrativi\, diritti e doveri dei fedeli\, strutture di governo\, ecc.) assume un’importanza significativa anche per chi opera nell’ambito delle professioni forensi civili\, analizzando in modo completo e chiaro molteplici istituti che fanno da sfondo all’applicazione di norme statali unilaterali oppure di derivazione pattizia. \nPer partecipare alla presentazione del libro inviare richiesta di adesione alla mail p.palumbo@ssmlinternazionale.it \n
URL:https://www.ssmlinternazionale.it/site/event/diritto-e-persona-il-diritto-canonico-dellecclesiologia-conciliare/
LOCATION:SSML Internazionale\, Viale Raffaele Delcogliano 12\, Benevento\, 82100\, Italia
ATTACH;FMTTYPE=image/jpeg:https://www.ssmlinternazionale.it/site/wp-content/uploads/3FVF1067.jpg
ORGANIZER;CN="SSML%20Internazionale":MAILTO:segreteria@ssmlinternazionale.it
END:VEVENT
END:VCALENDAR