BEGIN:VCALENDAR
VERSION:2.0
PRODID:-//SSML Internazionale - ECPv5.1.4//NONSGML v1.0//EN
CALSCALE:GREGORIAN
METHOD:PUBLISH
X-WR-CALNAME:SSML Internazionale
X-ORIGINAL-URL:https://www.ssmlinternazionale.it/site
X-WR-CALDESC:Eventi per SSML Internazionale
BEGIN:VTIMEZONE
TZID:Europe/Rome
BEGIN:DAYLIGHT
TZOFFSETFROM:+0100
TZOFFSETTO:+0200
TZNAME:CEST
DTSTART:20220327T010000
END:DAYLIGHT
BEGIN:STANDARD
TZOFFSETFROM:+0200
TZOFFSETTO:+0100
TZNAME:CET
DTSTART:20221030T010000
END:STANDARD
END:VTIMEZONE
BEGIN:VEVENT
DTSTART;VALUE=DATE:20220411
DTEND;VALUE=DATE:20220412
DTSTAMP:20260422T005135
CREATED:20220325T102203Z
LAST-MODIFIED:20220401T110114Z
UID:7762-1649635200-1649721599@www.ssmlinternazionale.it
SUMMARY:Dalla tradizione del romanzo ai media
DESCRIPTION:\nDalla tradizione del romanzo ai media – Prof.ssa Claudia Mignola  – professore di Lingua Francese\, Prof. Vincenzo Simoniello – professore di Lingua Francese\n\n\n\nAmelie Nothomb\, una ecrivaine mediatique au coeur autobiographique\n\n\n\nL’appuntamento dedicato agli studenti SSML Internazionale\, si svolgerà alle ore 15.30\n\n\nProgramma\n\n\nPer partecipare inviare una mail a p.palumbo@ssmlinternazionale.it\n\n
URL:https://www.ssmlinternazionale.it/site/event/dalla-tradizione-del-romanzo-ai-media/
CATEGORIES:Attività,Orientamento
ATTACH;FMTTYPE=image/jpeg:https://www.ssmlinternazionale.it/site/wp-content/uploads/from-above-woan-with-laptop-reading-book1.jpg
END:VEVENT
END:VCALENDAR