BEGIN:VCALENDAR
VERSION:2.0
PRODID:-//SSML Internazionale - ECPv5.1.4//NONSGML v1.0//EN
CALSCALE:GREGORIAN
METHOD:PUBLISH
X-WR-CALNAME:SSML Internazionale
X-ORIGINAL-URL:https://www.ssmlinternazionale.it/site
X-WR-CALDESC:Eventi per SSML Internazionale
BEGIN:VTIMEZONE
TZID:Europe/Rome
BEGIN:DAYLIGHT
TZOFFSETFROM:+0100
TZOFFSETTO:+0200
TZNAME:CEST
DTSTART:20220327T010000
END:DAYLIGHT
BEGIN:STANDARD
TZOFFSETFROM:+0200
TZOFFSETTO:+0100
TZNAME:CET
DTSTART:20221030T010000
END:STANDARD
END:VTIMEZONE
BEGIN:VEVENT
DTSTART;VALUE=DATE:20220513
DTEND;VALUE=DATE:20220514
DTSTAMP:20260421T212518
CREATED:20220422T074524Z
LAST-MODIFIED:20220422T074524Z
UID:7900-1652400000-1652486399@www.ssmlinternazionale.it
SUMMARY:Dalla tradizione del romanzo ai media
DESCRIPTION:Dalla tradizione del romanzo ai media – Prof. Paolo Palumbo\, docente Ssml – diritto dell’Unione Europea\n\n\n\nSpecialized language\n\n\n\n\nL’appuntamento dedicato agli studenti SSML Internazionale\, si svolgerà alle ore 15.30\n\n\nProgramma\n\n\nPer partecipare inviare una mail a p.palumbo@ssmlinternazionale.it\n\n\n\n
URL:https://www.ssmlinternazionale.it/site/event/dalla-tradizione-del-romanzo-ai-media-4/
CATEGORIES:Attività,Orientamento
ATTACH;FMTTYPE=image/jpeg:https://www.ssmlinternazionale.it/site/wp-content/uploads/from-above-woan-with-laptop-reading-book1.jpg
ORGANIZER;CN="SSML%20Internazionale":MAILTO:segreteria@ssmlinternazionale.it
END:VEVENT
END:VCALENDAR