BEGIN:VCALENDAR
VERSION:2.0
PRODID:-//SSML Internazionale - ECPv5.1.4//NONSGML v1.0//EN
CALSCALE:GREGORIAN
METHOD:PUBLISH
X-WR-CALNAME:SSML Internazionale
X-ORIGINAL-URL:https://www.ssmlinternazionale.it/site
X-WR-CALDESC:Eventi per SSML Internazionale
BEGIN:VTIMEZONE
TZID:Europe/Rome
BEGIN:DAYLIGHT
TZOFFSETFROM:+0100
TZOFFSETTO:+0200
TZNAME:CEST
DTSTART:20220327T010000
END:DAYLIGHT
BEGIN:STANDARD
TZOFFSETFROM:+0200
TZOFFSETTO:+0100
TZNAME:CET
DTSTART:20221030T010000
END:STANDARD
END:VTIMEZONE
BEGIN:VEVENT
DTSTART;VALUE=DATE:20220430
DTEND;VALUE=DATE:20220501
DTSTAMP:20260421T212504
CREATED:20220325T105546Z
LAST-MODIFIED:20220325T105546Z
UID:7778-1651276800-1651363199@www.ssmlinternazionale.it
SUMMARY:Dalla tradizione del romanzo ai media
DESCRIPTION:Dalla tradizione del romanzo ai media – Prof. Claudio Vinti  – già Professore Ordinario di Lingua e Traduzione Francese dell’Università degli Studi di Perugia\n\n\n\nJan Luc Godard et la mort du langage\n\n\n\n\nL’appuntamento dedicato agli studenti SSML Internazionale\, si svolgerà alle ore 15.30\n\n\nProgramma\n\n\nPer partecipare inviare una mail a p.palumbo@ssmlinternazionale.it\n\n\n\n
URL:https://www.ssmlinternazionale.it/site/event/dalla-tradizione-del-romanzo-ai-media-3/
CATEGORIES:Attività
ATTACH;FMTTYPE=image/jpeg:https://www.ssmlinternazionale.it/site/wp-content/uploads/from-above-woan-with-laptop-reading-book1.jpg
END:VEVENT
END:VCALENDAR