BEGIN:VCALENDAR
VERSION:2.0
PRODID:-//SSML Internazionale - ECPv5.1.4//NONSGML v1.0//EN
CALSCALE:GREGORIAN
METHOD:PUBLISH
X-WR-CALNAME:SSML Internazionale
X-ORIGINAL-URL:https://www.ssmlinternazionale.it/site
X-WR-CALDESC:Eventi per SSML Internazionale
BEGIN:VTIMEZONE
TZID:Europe/Rome
BEGIN:DAYLIGHT
TZOFFSETFROM:+0100
TZOFFSETTO:+0200
TZNAME:CEST
DTSTART:20220327T010000
END:DAYLIGHT
BEGIN:STANDARD
TZOFFSETFROM:+0200
TZOFFSETTO:+0100
TZNAME:CET
DTSTART:20221030T010000
END:STANDARD
END:VTIMEZONE
BEGIN:VEVENT
DTSTART;VALUE=DATE:20221025
DTEND;VALUE=DATE:20221026
DTSTAMP:20260421T192616
CREATED:20220929T075715Z
LAST-MODIFIED:20221004T100553Z
UID:8287-1666656000-1666742399@www.ssmlinternazionale.it
SUMMARY:BEN-ESSERE A SCUOLA 22/23
DESCRIPTION:Primo incontro di seminari esclusivi per gli studenti della Scuola Secondaria di Secondo Grado rientrante nel Percorso delle Competenze Trasversali e l’Orientamento: \n“Giovani e stress: istruzioni per l’uso” ore 16.00 – prof. Maria Cusano\, docente di Psicologia delle Relazioni \nObiettivo del progetto Ben essere a scuola è sviluppare abilità\, promuovere e/o migliorare le capacità di studenti (e docenti) nel definire obiettivi\, risolvere problemi\, comunicare in modo assertivo\, negoziare\, cooperare e controllare gli impulsi. Una buona occasione per affrontare e risolvere problematiche inerenti la crescita psico-fisica\, la dispersione scolastica\, l’insuccesso\, il bullismo\, ma anche uno spazio in cui fare prevenzione rispetto alle situazioni di disagio e sofferenza. La finalità è quella di migliorare la qualità della vita degli studenti\, con riflessi positivi sia nel contesto familiare dell’alunno che in quello scolastico\, favorendo nella scuola benessere e successo\, promuovendo quelle capacità relazionali che portano a una comunicazione assertiva e collaborativa. \nTutti gli incontri si svolgeranno sulla piattaforma dedicata e per aderire è necessario inviare una mail a orientamento@ssmlinternazionale.it \nProgramma \n
URL:https://www.ssmlinternazionale.it/site/event/ben-essere-a-scuola-22-23/
LOCATION:SSML Internazionale\, Viale Raffaele Delcogliano 12\, Benevento\, 82100\, Italia
CATEGORIES:Attività,Orientamento
ATTACH;FMTTYPE=image/jpeg:https://www.ssmlinternazionale.it/site/wp-content/uploads/BEN-ESSERE-A-SCUOLA-SSML.jpg
ORGANIZER;CN="SSML%20Internazionale":MAILTO:segreteria@ssmlinternazionale.it
END:VEVENT
END:VCALENDAR